BEGIN:VCALENDAR
VERSION:2.0
PRODID:-//AOW Orchester//EN
BEGIN:VEVENT
UID:69e731c86dd2b@aow-orchester.de
DTSTAMP:20260421T081400Z
DTSTART;VALUE=DATE:20260913
DTEND;VALUE=DATE:20260914
SUMMARY:Groß-Enzersdorf Höfefest 2026
DESCRIPTION:Die Veranstaltung bietet auch 2026 eine Mischung aus Kunst\, Kulinarik und Kultur in verschiedenen Höfen der Stadt. Das Akkordeonorchester Wien spielt auch heuer wieder im Pfarrsaal
LOCATION:Kirchenplatz 20\, 2301 Groß-Enzersdorf
END:VEVENT
END:VCALENDAR